BEGIN:VCALENDAR
VERSION:2.0
PRODID:-//communityactionprovo.org//NONSGML kigkonsult.se iCalcreator 2.30.
 10//
CALSCALE:GREGORIAN
METHOD:PUBLISH
UID:265d2a67-6ab7-401f-85a8-c8cd275c996a
X-WR-CALDESC:We will be teaching the Financial Literacy Classes @ the Fireh
 ouse in Heber on May 7th and May 8th (6-8pm both nights). \nFinancial Clas
 ses\nThere are four topics covered in our financial classes: \nBudgeting -
  You think you know where your money goes... but do you really? Let’s brea
 k it down and build a budget that works for your lifestyle.\nCredit - What
 ’s your credit score made of? Can you name the five things that affect it?
  We’ll show you how to build and protect your credit like a pro.\nDebt - A
 void it. Escape it. Crush it. Learn smart strategies to stay out of debt —
  or get out if you’re already in.\nSavings - Malibu trip? Emergency fund? 
 Retirement? Whatever your goals\, we’ll help you learn how to start saving
  and build a secure financial future.\n\nClass Details:\nOne topic per ses
 sion\nEach session lasts 1 to 1.5 hours\nFlexible scheduling based on your
  availability\n \nAsk us about our savings challenge! (Hint: You could rec
 eive $200 for completing the challenge.)\nFor questions or to schedule you
 r classes\, contact:\n(English\, Samoan) Kilee: kileep@casfb.org  (801) 69
 1-5243 \n(Spanish) Frank: franka@casfb.org (801) 695-5244\n(Spanish) Gideo
 n: gideona@casfb.org (801) 691-5244
X-WR-RELCALID:14dd7af926e5603dff35efae19f2fcc2
X-WR-TIMEZONE:America/Denver
BEGIN:VTIMEZONE
TZID:America/Denver
BEGIN:STANDARD
TZNAME:MST
DTSTART:20251102T020000
TZOFFSETFROM:-0600
TZOFFSETTO:-0700
RDATE:20261101T020000
END:STANDARD
BEGIN:DAYLIGHT
TZNAME:MDT
DTSTART:20260308T020000
TZOFFSETFROM:-0700
TZOFFSETTO:-0600
RDATE:20270314T020000
END:DAYLIGHT
END:VTIMEZONE
BEGIN:VEVENT
UID:3b6ed199-cafd-4f20-9050-99842e21def3
DTSTAMP:20260422T235102Z
DESCRIPTION:We will be teaching the Financial Literacy Classes @ the Fireho
 use in Heber on May 7th and May 8th (6-8pm both nights). \nFinancial Class
 es\nThere are four topics covered in our financial classes: \nBudgeting - 
 You think you know where your money goes... but do you really? Let’s break
  it down and build a budget that works for your lifestyle.\nCredit - What’
 s your credit score made of? Can you name the five things that affect it? 
 We’ll show you how to build and protect your credit like a pro.\nDebt - Av
 oid it. Escape it. Crush it. Learn smart strategies to stay out of debt — 
 or get out if you’re already in.\nSavings - Malibu trip? Emergency fund? R
 etirement? Whatever your goals\, we’ll help you learn how to start saving 
 and build a secure financial future.\n\nClass Details:\nOne topic per sess
 ion\nEach session lasts 1 to 1.5 hours\nFlexible scheduling based on your 
 availability\n \nAsk us about our savings challenge! (Hint: You could rece
 ive $200 for completing the challenge.)\nFor questions or to schedule your
  classes\, contact:\n(English\, Samoan) Kilee: kileep@casfb.org  (801) 691
 -5243 \n(Spanish) Frank: franka@casfb.org (801) 695-5244\n(Spanish) Gideon
 : gideona@casfb.org (801) 691-5244
DTSTART;TZID=America/Denver:20260507T180000
DTEND;TZID=America/Denver:20260507T200000
LOCATION:251 E 1200 S \, Heber City\, UT 84032 US
SUMMARY:Financial Learning Class @ Heber City 1/2
END:VEVENT
END:VCALENDAR
