BEGIN:VCALENDAR
VERSION:2.0
PRODID:-//communityactionprovo.org//NONSGML kigkonsult.se iCalcreator 2.30.
 10//
CALSCALE:GREGORIAN
METHOD:PUBLISH
UID:ff28a6db-ac74-4340-97a6-a55e3a78ff03
X-WR-CALDESC:https://communityactionprovo.org/birthday-bash.html
X-WR-RELCALID:c01c4196d51ec27621bd556c422598e6
X-WR-TIMEZONE:America/Denver
BEGIN:VTIMEZONE
TZID:America/Denver
BEGIN:STANDARD
TZNAME:MST
DTSTART:20251102T020000
TZOFFSETFROM:-0600
TZOFFSETTO:-0700
RDATE:20261101T020000
RDATE:20271107T020000
END:STANDARD
BEGIN:DAYLIGHT
TZNAME:MDT
DTSTART:20260308T020000
TZOFFSETFROM:-0700
TZOFFSETTO:-0600
RDATE:20270314T020000
END:DAYLIGHT
END:VTIMEZONE
BEGIN:VEVENT
UID:8d36a059-09d3-4cf8-b12b-543a7759ffad
DTSTAMP:20260422T235236Z
DESCRIPTION:https://communityactionprovo.org/birthday-bash.html
DTSTART;TZID=America/Denver:20260516T100000
DTEND;TZID=America/Denver:20260516T140000
LOCATION:815 S Freedom Blvd Ste 100\, Provo\, UT 84601 US
SUMMARY:Birthday Bash
END:VEVENT
END:VCALENDAR
